BEGIN:VCALENDAR
VERSION:2.0
PRODID:-//SecuriFocus//NONSGML Foobar//EN
METHOD:PUBLISH
BEGIN:VEVENT
UID:20260420T081402-54407-securifocus.com
DTSTAMP:20260420T081402
DTSTART:20260320T090000
DTEND:20260320T000000
LOCATION:Budapest, Külső Mester utca 24.
SUMMARY:Paradox 3 - EVO rendszerek - kompletten
DESCRIPTION:Rendező: Power Biztonságtechnika Kft
Információ: https://powerbizt.hu/oktatasok/paradox-3-evo-rendszerek-kompletten-2026-03-20-09-00
Esemény: https://powerbizt.hu/oktatasok/paradox-3-evo-rendszerek-kompletten-2026-03-20-09-00
Jelentkezés: https://powerbizt.hu/oktatasok/paradox-3-evo-rendszerek-kompletten-2026-03-20-09-00
END:VEVENT
END:VCALENDAR