BEGIN:VCALENDAR
VERSION:2.0
PRODID:-//SecuriFocus//NONSGML Foobar//EN
METHOD:PUBLISH
BEGIN:VEVENT
UID:20260420T081538-96527-securifocus.com
DTSTAMP:20260420T081538
DTSTART:20260319T100000
DTEND:20260319T000000
LOCATION:Budapest, Petzvál József utca 30.
SUMMARY:Hitec Smart Home Workshop
DESCRIPTION:Rendező: GeoVision Hungária Kft
Információ: https://docs.google.com/forms/d/e/1FAIpQLScnWDk2wxh1q56ZCORe6hwZoxWnf5slg6Vtw0k4z-TuYM07Sg/viewform
Esemény: https://docs.google.com/forms/d/e/1FAIpQLScnWDk2wxh1q56ZCORe6hwZoxWnf5slg6Vtw0k4z-TuYM07Sg/viewform
Jelentkezés: https://docs.google.com/forms/d/e/1FAIpQLScnWDk2wxh1q56ZCORe6hwZoxWnf5slg6Vtw0k4z-TuYM07Sg/viewform
END:VEVENT
END:VCALENDAR